BEGIN:VCALENDAR
VERSION:2.0
PRODID:-//3nity.com//3nity CMS//EN
BEGIN:VEVENT
SUMMARY:Certified Christian Life Coach Training
UID:2026-07-18-1216137@www.victoriouslbi.org
SEQUENCE:0
STATUS:CONFIRMED
DTSTART:20260917T190000
DTEND:20260917T203000
DTSTAMP:20161222T120000
DESCRIPTION:Victorious Living Bible Institute is now enrolling for the Certified Christian Life Coach Program, beginning Thursday, September 17, 2026 at 7:00 PM (EST). This live Zoom program equips individuals with practical coaching skills and biblical principles to effectively guide, mentor, and empower others.
URL:http://www.victoriouslbi.org
END:VEVENT
END:VCALENDAR
