BEGIN:VCALENDAR
VERSION:2.0
PRODID:-//3nity.com//3nity CMS//EN
BEGIN:VEVENT
SUMMARY:Loss and Grief Certification Training
UID:2026-07-18-1216136@www.victoriouslbi.org
SEQUENCE:0
STATUS:CONFIRMED
DTSTART:20260915T190000
DTEND:20260915T203000
DTSTAMP:20161222T120000
DESCRIPTION:Victorious Living Bible Institute is now enrolling for the Loss and Grief Certification Training, a 13-week program beginning Tuesday, September 15, 2026. This course equips individuals with biblical principles and practical tools to effectively support those experiencing loss and grief.
URL:http://www.victoriouslbi.org
END:VEVENT
END:VCALENDAR
