BEGIN:VCALENDAR
VERSION:2.0
PRODID:-//3nity.com//3nity CMS//EN
BEGIN:VEVENT
SUMMARY:Board Certified Christian Counselor - Summer Session
UID:2026-07-18-1216107@www.victoriouslbi.org
SEQUENCE:0
STATUS:CONFIRMED
DTSTART:20260630T190000
DTEND:20260630T203000
DTSTAMP:20161222T120000
DESCRIPTION:Victorious Living Bible Institute is now enrolling for the Summer 2026 Board Certified Christian Counselor Program in partnership with the National Association of Christian Counselors. Beginning Tuesday, June 30, 2026 at 7:00 PM (EST), this interactive program equips individuals with practical, biblically grounded tools to effectively support and guide others.
URL:http://www.victoriouslbi.org
END:VEVENT
END:VCALENDAR
