BEGIN:VCALENDAR
VERSION:2.0
PRODID:-//3nity.com//3nity CMS//EN
BEGIN:VEVENT
SUMMARY:Impact to Influence - The Church Marketing Blueprint
UID:2026-07-18-1200894@www.victoriouslbi.org
SEQUENCE:0
STATUS:CONFIRMED
DTSTART:20260915T190000
DTEND:20260915T200000
DTSTAMP:20161222T120000
LOCATION: Hybrid (Zoom and In Person), 979 Tebeau Street, Waycross, GA 31501
DESCRIPTION:Impact to Influence: The Church Marketing Blueprint is a 10-week certificate training designed to equip ministry leaders with practical strategies to expand reach, strengthen visibility, and communicate their mission with clarity and excellence. Learn how to move your ministry from impact to influence on purpose.
URL:http://www.victoriouslbi.org
END:VEVENT
END:VCALENDAR
